BEGIN:VCALENDAR
PRODID:-//Microsoft Corporation//Outlook 16.0 MIMEDIR//EN
VERSION:2.0
METHOD:PUBLISH
X-MS-OLK-FORCEINSPECTOROPEN:TRUE
BEGIN:VEVENT
CLASS:PUBLIC
CREATED:20220103T181223Z
DESCRIPTION:Hear from customers\, partners\, and Intel leaders about the la
	test awe-inspiring technology advancements being made to help solve your m
	ost pressing business challenges. Network and collaborate with business an
	d technical ecosystem industry leaders.\n
DTEND;VALUE=DATE:20220512
DTSTAMP:20220103T181223Z
DTSTART;VALUE=DATE:20220510
LAST-MODIFIED:20220103T181223Z
LOCATION:Intel.com/content/www/us/en/events/on-event-series/vision.html
PRIORITY:5
SEQUENCE:0
SUMMARY;LANGUAGE=en-us:Intel Vision
TRANSP:OPAQUE
UID:040000008200E00074C5B7101A82E00800000000800477318A00D801000000000000000
	0100000001C8E20A5D255D24FAA3EDA10A60BD005
X-ALT-DESC;FMTTYPE=text/html:<!DOCTYPE HTML PUBLIC "-//W3C//DTD HTML 3.2//E
	N">\n<HTML>\n<HEAD>\n<META NAME="Generator" CONTENT="MS Exchange Server ve
	rsion 16.0.13801.20804">\n<TITLE></TITLE>\n</HEAD>\n<BODY>\n<!-- Converted
	 from text/rtf format -->\n\n<P DIR=LTR><SPAN LANG="en-us"><FONT COLOR="#2
	62626" FACE="Tahoma">Hear from customers\, partners\, and Intel leaders ab
	out the latest awe-inspiring technology advancements being made to help so
	lve your most pressing business challenges. Network and collaborate with b
	usiness and technical ecosystem industry leaders</FONT></SPAN><SPAN LANG="
	en-us"></SPAN><SPAN LANG="en-us"></SPAN><SPAN LANG="en-us"></SPAN><SPAN LA
	NG="en-us"></SPAN><SPAN LANG="en-us"><FONT COLOR="#262626" FACE="Tahoma">.
	</FONT></SPAN><SPAN LANG="en-us"></SPAN><SPAN LANG="en-us"></SPAN><SPAN LA
	NG="en-us"></SPAN></P>\n\n</BODY>\n</HTML>
X-MICROSOFT-CDO-BUSYSTATUS:BUSY
X-MICROSOFT-CDO-IMPORTANCE:1
X-MICROSOFT-DISALLOW-COUNTER:FALSE
X-MS-OLK-AUTOFILLLOCATION:FALSE
X-MS-OLK-CONFTYPE:0
BEGIN:VALARM
TRIGGER:-PT1080M
ACTION:DISPLAY
DESCRIPTION:Reminder
END:VALARM
END:VEVENT
END:VCALENDAR
